BEGIN:VCALENDAR
VERSION:2.0
PRODID:-// - ECPv6.15.20//NONSGML v1.0//EN
CALSCALE:GREGORIAN
METHOD:PUBLISH
X-ORIGINAL-URL:https://autisminmuseums.com
X-WR-CALDESC:Events for 
REFRESH-INTERVAL;VALUE=DURATION:PT1H
X-Robots-Tag:noindex
X-PUBLISHED-TTL:PT1H
BEGIN:VTIMEZONE
TZID:Europe/London
BEGIN:DAYLIGHT
TZOFFSETFROM:+0000
TZOFFSETTO:+0100
TZNAME:BST
DTSTART:20240331T010000
END:DAYLIGHT
BEGIN:STANDARD
TZOFFSETFROM:+0100
TZOFFSETTO:+0000
TZNAME:GMT
DTSTART:20241027T010000
END:STANDARD
BEGIN:DAYLIGHT
TZOFFSETFROM:+0000
TZOFFSETTO:+0100
TZNAME:BST
DTSTART:20250330T010000
END:DAYLIGHT
BEGIN:STANDARD
TZOFFSETFROM:+0100
TZOFFSETTO:+0000
TZNAME:GMT
DTSTART:20251026T010000
END:STANDARD
BEGIN:DAYLIGHT
TZOFFSETFROM:+0000
TZOFFSETTO:+0100
TZNAME:BST
DTSTART:20260329T010000
END:DAYLIGHT
BEGIN:STANDARD
TZOFFSETFROM:+0100
TZOFFSETTO:+0000
TZNAME:GMT
DTSTART:20261025T010000
END:STANDARD
BEGIN:DAYLIGHT
TZOFFSETFROM:+0000
TZOFFSETTO:+0100
TZNAME:BST
DTSTART:20270328T010000
END:DAYLIGHT
BEGIN:STANDARD
TZOFFSETFROM:+0100
TZOFFSETTO:+0000
TZNAME:GMT
DTSTART:20271031T010000
END:STANDARD
END:VTIMEZONE
BEGIN:VEVENT
DTSTART;TZID=Europe/London:20260331T120000
DTEND;TZID=Europe/London:20260331T170000
DTSTAMP:20260419T161109
CREATED:20260207T174054Z
LAST-MODIFIED:20260213T165914Z
UID:10001295-1774958400-1774976400@autisminmuseums.com
SUMMARY:Autistic Girls Workshop @ Cartoon Museum\, London
DESCRIPTION:31st March: Autistic Girls Workshops\n\n\n\n\n\n\n\nOverview\n\nCome along to this arts and crafts session designed for autistic girls to get creative together. This workshop will be hosted by Bex Knight\, who is an autistic woman herself and has worked with us over the years to create our access comics\, which you’ll be able to see in person on the day! During this session\, participants will make physical objects using their own drawings and art\, coming out of it with their own key rings\, stickers and badges! There will also be snacks on offer and breaks during the session.\n\nAges 8-14: 12:00pm – 2:00pm\nAges 15-19: 3:00pm – 5:00pm\n\n15 tickets per session so booking is essential. Tickets are free.\nAccess information will be emailed the week before. \nThese sessions are open to anyone who identifies as female or non-binary and fits within the stated age groups above. \nAny questions please email: outreach@cartoonmuseum.org
URL:https://autisminmuseums.com/event/autistic-girls-workshop-cartoon-museum-london/
LOCATION:Cartoon Museum\, London\, W1A 3AE
CATEGORIES:London
GEO:51.5072178;-0.1275862
END:VEVENT
BEGIN:VEVENT
DTSTART;TZID=Europe/London:20260330T153000
DTEND;TZID=Europe/London:20260330T160000
DTSTAMP:20260419T161109
CREATED:20260321T163828Z
LAST-MODIFIED:20260321T163828Z
UID:10001321-1774884600-1774886400@autisminmuseums.com
SUMMARY:Relaxed Story Telling @ Cartoon Museum\, London
DESCRIPTION:Professional story teller Olivia Amstrong will bring to life a brand new sci fi story. This story is about an meteor landing on earth and giving humans super powers. Will they use these powers for good or for evil? The story has been created by Evan Bond our current Young Cartoonist in Resident.\n\nThe story will last around 25 minutes. Olivia brings the story to life with props and her energy. Children will come away knowing a brand new story and having had a fantastic time.\n\nOur relaxed events are specifically designed for children and young people (aged between 5-25) with Autism spectrum conditions or sensory processing differences.\n \nTickets are £5 per child. Adults are free. \nTiming: 3:30-4:00pm Timing on the day will slightly vary due to the live nature. The more exited the children are the longer the story will take!\n \n\nAccessible information will be emailed the week before. Any questions please email: outreach@cartoonmuseum.org\n\n\n\n\n\n\nLocation\n\n\n\n\n\n\n\nAdditional information\n\n \nTicket availability\n\nTickets are on sale until the experience starts\, but may sell out sooner\, so don’t miss out! \n\n\n \nBooking protection\n\nFlexibility to reschedule up to 3 days before the experience starts is included with your booking. \n\n\n\n\n\n\n\n \n\n\nAbout us\nBooking policy\nCancellations\n\nSell tickets online with Beyonk \n\n\nRelaxed Story Telling – 30th March
URL:https://autisminmuseums.com/event/relaxed-story-telling-cartoon-museum-london/
LOCATION:Cartoon Museum\, London\, W1A 3AE
CATEGORIES:London
GEO:51.5072178;-0.1275862
END:VEVENT
BEGIN:VEVENT
DTSTART;TZID=Europe/London:20260330T110000
DTEND;TZID=Europe/London:20260330T133000
DTSTAMP:20260419T161109
CREATED:20260321T165713Z
LAST-MODIFIED:20260321T165713Z
UID:10001322-1774868400-1774877400@autisminmuseums.com
SUMMARY:Relaxed Morning @ Cartoon Museum\, London
DESCRIPTION:Join us on Monday 30th March for the first Relaxed Monday of the year. Explore the museum under relaxed conditions or come to the timed art workshops.\nMarch’s theme is sci fi. In the workshop Evan Bond the museum’s Young Cartoonist in Resident will teach you how to draw his characters as well as helping you to explore sci fi themes of your own imagination.\n\nOur relaxed Mondays are specifically designed for children and young people (aged between 5-25) with Autism spectrum conditions or sensory processing differences. This event is free but pre-booking is essential.\nDrop-in session: 11am – 1:30pm. \nSci fi workshop: 12:30pm -1:15pm \nTo book a place\, or for further information\, please visit our website at cartoonmuseum.org. Accessible information will be emailed the week before. Any questions please email: outreach@cartoonmuseum.org
URL:https://autisminmuseums.com/event/relaxed-morning-cartoon-museum-london/
LOCATION:Cartoon Museum\, London\, W1A 3AE
CATEGORIES:London
GEO:51.5072178;-0.1275862
END:VEVENT
BEGIN:VEVENT
DTSTART;TZID=Europe/London:20260216T110000
DTEND;TZID=Europe/London:20260216T173000
DTSTAMP:20260419T161109
CREATED:20260207T172857Z
LAST-MODIFIED:20260207T172857Z
UID:10001294-1771239600-1771263000@autisminmuseums.com
SUMMARY:Relaxed Monday - Manga @ Cartoon Museum\, London
DESCRIPTION:Overview\nJoin us on Monday 16th February for the first Relaxed Monday of the year. Explore the museum under relaxed conditions or come to the timed art workshops.\nFebruary’s theme is Magical Manga. In the workshop you will learn how to draw a manga version of yourself. You will then be shown how to add magical accessories and effects to your drawing. What powers will you give yourself? Do you use them for good or for bad!?\nOur relaxed Mondays are specifically designed for children and young people (aged between 5-25) with Autism spectrum conditions or sensory processing differences. This event is free but pre-booking is essential.\nMorning drop-in session: 11am – 1:30pm.Morning manga workshop: 12:30pm -1:15pm\nAfternoon drop-in session: 3pm – 5:30pm.\nAfternoon manga workshop: 3:30pm – 4:15pm\nTo book a place\, or for further information\, please visit our website at cartoonmuseum.org. Accessible information will be emailed the week before. Any questions please email: outreach@cartoonmuseum.org
URL:https://autisminmuseums.com/event/relaxed-monday-manga-cartoon-museum-london/
LOCATION:Cartoon Museum\, London\, W1A 3AE
CATEGORIES:London
GEO:51.5072178;-0.1275862
END:VEVENT
BEGIN:VEVENT
DTSTART;TZID=Europe/London:20251027T110000
DTEND;TZID=Europe/London:20251027T173000
DTSTAMP:20260419T161109
CREATED:20250111T155344Z
LAST-MODIFIED:20250111T160252Z
UID:10000965-1761562800-1761586200@autisminmuseums.com
SUMMARY:Relaxed Mondays @ The Cartoon Museum\, London
DESCRIPTION:  \n\n\n\n\nRelaxed Mondays: Events this year: February 17th. April 7th. May 26th. July 28th. August 4th. August 25th. October 27.\n\n\n\n\n\n\n\nOverview\nOur free Relaxed Monday events have been specifically designed for children and young people with autism spectrum conditions or sensory processing differences.\nEvents this year: February 17th. April 7th. May 26th. July 28th. August 4th. August 25th. October 27.Events are free\, but advance booking is essential. One ticket per person\, and one member of the group needs to be aged 5-25 with autism spectrum conditions or sensory processing differences. Drop-in workshops are most suitable for ages 8-14. Drinks and snacks will be available. Join us for a free morning or afternoon event specifically designed for children and young people with autism spectrum conditions or sensory processing differences. The event offers children and young people the opportunity to visit the museum without the distraction of other visitors\, accompanied by their families\, carers or friends. Throughout each session there will be drop-in cartoon workshops with our cartoonist Steve Marchant\, as well as a self-led trail of the museum – or you can just use the time to explore the museum at your own pace. We cannot be responsible for any attendees. However\, if there are any access requirements you would like us to know about or discuss\, as well as any questions you may have\, please email learning@cartoonmuseum.org and our Learning and Outreach Officer\, Steve\, will be happy to talk through everything. If you have booked tickets\, we will email you our accessibility information ahead of the visit\, including: Visual Story of the day\, exhibition videos along with accessible descriptions\, sensory descriptions of the museum\, and the best accessible routes to get to the museum using public transport.\n\n\n\nLocation\n\n\n\n\n\n\n\n\n\n\n\n 
URL:https://autisminmuseums.com/event/relaxed-mondays-the-cartoon-museum-london-2/
LOCATION:Cartoon Museum\, London\, W1A 3AE
CATEGORIES:London
GEO:51.5072178;-0.1275862
END:VEVENT
BEGIN:VEVENT
DTSTART;TZID=Europe/London:20250825T110000
DTEND;TZID=Europe/London:20250825T173000
DTSTAMP:20260419T161109
CREATED:20250111T155622Z
LAST-MODIFIED:20250111T155711Z
UID:10000968-1756119600-1756143000@autisminmuseums.com
SUMMARY:Relaxed Mondays @ The Cartoon Museum\, London
DESCRIPTION:  \n\n\n\n\nRelaxed Mondays: Events this year: February 17th. April 7th. May 26th. July 28th. August 4th. August 25th. October 27.\n\n\n\n\n\n\n\nOverview\nOur free Relaxed Monday events have been specifically designed for children and young people with autism spectrum conditions or sensory processing differences.\nEvents this year: February 17th. April 7th. May 26th. July 28th. August 4th. August 25th. October 27.Events are free\, but advance booking is essential. One ticket per person\, and one member of the group needs to be aged 5-25 with autism spectrum conditions or sensory processing differences. Drop-in workshops are most suitable for ages 8-14. Drinks and snacks will be available. Join us for a free morning or afternoon event specifically designed for children and young people with autism spectrum conditions or sensory processing differences. The event offers children and young people the opportunity to visit the museum without the distraction of other visitors\, accompanied by their families\, carers or friends. Throughout each session there will be drop-in cartoon workshops with our cartoonist Steve Marchant\, as well as a self-led trail of the museum – or you can just use the time to explore the museum at your own pace. We cannot be responsible for any attendees. However\, if there are any access requirements you would like us to know about or discuss\, as well as any questions you may have\, please email learning@cartoonmuseum.org and our Learning and Outreach Officer\, Steve\, will be happy to talk through everything. If you have booked tickets\, we will email you our accessibility information ahead of the visit\, including: Visual Story of the day\, exhibition videos along with accessible descriptions\, sensory descriptions of the museum\, and the best accessible routes to get to the museum using public transport.\n\n\n\nLocation
URL:https://autisminmuseums.com/event/relaxed-mondays-the-cartoon-museum-london-5/
LOCATION:Cartoon Museum\, London\, W1A 3AE
CATEGORIES:London
GEO:51.5072178;-0.1275862
END:VEVENT
BEGIN:VEVENT
DTSTART;TZID=Europe/London:20250804T110000
DTEND;TZID=Europe/London:20250804T173000
DTSTAMP:20260419T161109
CREATED:20250711T131227Z
LAST-MODIFIED:20250711T131227Z
UID:10001141-1754305200-1754328600@autisminmuseums.com
SUMMARY:Relaxed Mondays @ The Cartoon Museum\, London
DESCRIPTION:  \n\n\n\n\nRelaxed Mondays: Events this year: February 17th. April 7th. May 26th. July 28th. August 4th. August 25th. October 27.\n\n\n\n\n\n\n\nOverview\nOur free Relaxed Monday events have been specifically designed for children and young people with autism spectrum conditions or sensory processing differences.\nEvents this year: February 17th. April 7th. May 26th. July 28th. August 4th. August 25th. October 27.Events are free\, but advance booking is essential. One ticket per person\, and one member of the group needs to be aged 5-25 with autism spectrum conditions or sensory processing differences. Drop-in workshops are most suitable for ages 8-14. Drinks and snacks will be available. Join us for a free morning or afternoon event specifically designed for children and young people with autism spectrum conditions or sensory processing differences. The event offers children and young people the opportunity to visit the museum without the distraction of other visitors\, accompanied by their families\, carers or friends. Throughout each session there will be drop-in cartoon workshops with our cartoonist Steve Marchant\, as well as a self-led trail of the museum – or you can just use the time to explore the museum at your own pace. We cannot be responsible for any attendees. However\, if there are any access requirements you would like us to know about or discuss\, as well as any questions you may have\, please email learning@cartoonmuseum.org and our Learning and Outreach Officer\, Steve\, will be happy to talk through everything. If you have booked tickets\, we will email you our accessibility information ahead of the visit\, including: Visual Story of the day\, exhibition videos along with accessible descriptions\, sensory descriptions of the museum\, and the best accessible routes to get to the museum using public transport.\n\n\n\nLocation
URL:https://autisminmuseums.com/event/relaxed-mondays-the-cartoon-museum-london-7/
LOCATION:Cartoon Museum\, London\, W1A 3AE
CATEGORIES:London
GEO:51.5072178;-0.1275862
END:VEVENT
BEGIN:VEVENT
DTSTART;TZID=Europe/London:20250728T110000
DTEND;TZID=Europe/London:20250728T173000
DTSTAMP:20260419T161109
CREATED:20250111T155517Z
LAST-MODIFIED:20250111T155517Z
UID:10000967-1753700400-1753723800@autisminmuseums.com
SUMMARY:Relaxed Mondays @ The Cartoon Museum\, London
DESCRIPTION:  \n\n\n\n\nRelaxed Mondays: Events this year: February 17th. April 7th. May 26th. July 28th. August 4th. August 25th. October 27.\n\n\n\n\n\n\n\nOverview\nOur free Relaxed Monday events have been specifically designed for children and young people with autism spectrum conditions or sensory processing differences.\nEvents this year: February 17th. April 7th. May 26th. July 28th. August 4th. August 25th. October 27.Events are free\, but advance booking is essential. One ticket per person\, and one member of the group needs to be aged 5-25 with autism spectrum conditions or sensory processing differences. Drop-in workshops are most suitable for ages 8-14. Drinks and snacks will be available. Join us for a free morning or afternoon event specifically designed for children and young people with autism spectrum conditions or sensory processing differences. The event offers children and young people the opportunity to visit the museum without the distraction of other visitors\, accompanied by their families\, carers or friends. Throughout each session there will be drop-in cartoon workshops with our cartoonist Steve Marchant\, as well as a self-led trail of the museum – or you can just use the time to explore the museum at your own pace. We cannot be responsible for any attendees. However\, if there are any access requirements you would like us to know about or discuss\, as well as any questions you may have\, please email learning@cartoonmuseum.org and our Learning and Outreach Officer\, Steve\, will be happy to talk through everything. If you have booked tickets\, we will email you our accessibility information ahead of the visit\, including: Visual Story of the day\, exhibition videos along with accessible descriptions\, sensory descriptions of the museum\, and the best accessible routes to get to the museum using public transport.\n\n\n\nLocation\n\n\n\n\n\n\n\n\n\n\n\n\n\n\n 
URL:https://autisminmuseums.com/event/relaxed-mondays-the-cartoon-museum-london-4/
LOCATION:Cartoon Museum\, London\, W1A 3AE
CATEGORIES:London
GEO:51.5072178;-0.1275862
END:VEVENT
BEGIN:VEVENT
DTSTART;TZID=Europe/London:20250526T110000
DTEND;TZID=Europe/London:20250526T173000
DTSTAMP:20260419T161109
CREATED:20250111T155439Z
LAST-MODIFIED:20250111T155439Z
UID:10000966-1748257200-1748280600@autisminmuseums.com
SUMMARY:Relaxed Mondays @ The Cartoon Museum\, London
DESCRIPTION:  \n\n\n\n\nRelaxed Mondays: Events this year: February 17th. April 7th. May 26th. July 28th. August 4th. August 25th. October 27.\n\n\n\n\n\n\n\nOverview\nOur free Relaxed Monday events have been specifically designed for children and young people with autism spectrum conditions or sensory processing differences.\nEvents this year: February 17th. April 7th. May 26th. July 28th. August 4th. August 25th. October 27.Events are free\, but advance booking is essential. One ticket per person\, and one member of the group needs to be aged 5-25 with autism spectrum conditions or sensory processing differences. Drop-in workshops are most suitable for ages 8-14. Drinks and snacks will be available. Join us for a free morning or afternoon event specifically designed for children and young people with autism spectrum conditions or sensory processing differences. The event offers children and young people the opportunity to visit the museum without the distraction of other visitors\, accompanied by their families\, carers or friends. Throughout each session there will be drop-in cartoon workshops with our cartoonist Steve Marchant\, as well as a self-led trail of the museum – or you can just use the time to explore the museum at your own pace. We cannot be responsible for any attendees. However\, if there are any access requirements you would like us to know about or discuss\, as well as any questions you may have\, please email learning@cartoonmuseum.org and our Learning and Outreach Officer\, Steve\, will be happy to talk through everything. If you have booked tickets\, we will email you our accessibility information ahead of the visit\, including: Visual Story of the day\, exhibition videos along with accessible descriptions\, sensory descriptions of the museum\, and the best accessible routes to get to the museum using public transport.\n\n\n\nLocation\n\n\n\n\n\n\n\n\n\n\n\n\n\n\n 
URL:https://autisminmuseums.com/event/relaxed-mondays-the-cartoon-museum-london-3/
LOCATION:Cartoon Museum\, London\, W1A 3AE
CATEGORIES:London
GEO:51.5072178;-0.1275862
END:VEVENT
BEGIN:VEVENT
DTSTART;TZID=Europe/London:20250407T110000
DTEND;TZID=Europe/London:20250407T173000
DTSTAMP:20260419T161109
CREATED:20250111T155920Z
LAST-MODIFIED:20250111T155920Z
UID:10000969-1744023600-1744047000@autisminmuseums.com
SUMMARY:Relaxed Mondays @ The Cartoon Museum\, London
DESCRIPTION:  \n\n\n\n\nRelaxed Mondays: Events this year: February 17th. April 7th. May 26th. July 28th. August 4th. August 25th. October 27.\n\n\n\n\n\n\n\nOverview\nOur free Relaxed Monday events have been specifically designed for children and young people with autism spectrum conditions or sensory processing differences.\nEvents this year: February 17th. April 7th. May 26th. July 28th. August 4th. August 25th. October 27.Events are free\, but advance booking is essential. One ticket per person\, and one member of the group needs to be aged 5-25 with autism spectrum conditions or sensory processing differences. Drop-in workshops are most suitable for ages 8-14. Drinks and snacks will be available. Join us for a free morning or afternoon event specifically designed for children and young people with autism spectrum conditions or sensory processing differences. The event offers children and young people the opportunity to visit the museum without the distraction of other visitors\, accompanied by their families\, carers or friends. Throughout each session there will be drop-in cartoon workshops with our cartoonist Steve Marchant\, as well as a self-led trail of the museum – or you can just use the time to explore the museum at your own pace. We cannot be responsible for any attendees. However\, if there are any access requirements you would like us to know about or discuss\, as well as any questions you may have\, please email learning@cartoonmuseum.org and our Learning and Outreach Officer\, Steve\, will be happy to talk through everything. If you have booked tickets\, we will email you our accessibility information ahead of the visit\, including: Visual Story of the day\, exhibition videos along with accessible descriptions\, sensory descriptions of the museum\, and the best accessible routes to get to the museum using public transport. \n\n\n\n\nLocation\n\n\n\n\n\n\n\n\n\n\n\n\n\n\n 
URL:https://autisminmuseums.com/event/relaxed-mondays-the-cartoon-museum-london-6/
LOCATION:Cartoon Museum\, London\, W1A 3AE
CATEGORIES:London
GEO:51.5072178;-0.1275862
END:VEVENT
BEGIN:VEVENT
DTSTART;TZID=Europe/London:20250217T110000
DTEND;TZID=Europe/London:20250217T173000
DTSTAMP:20260419T161109
CREATED:20250111T155222Z
LAST-MODIFIED:20250111T155222Z
UID:10000964-1739790000-1739813400@autisminmuseums.com
SUMMARY:Relaxed Mondays @ The Cartoon Museum\, London
DESCRIPTION:Relaxed Mondays: Events this year: February 17th. April 7th. May 26th. July 28th. August 4th. August 25th. October 27.\n\n\n\n\n\n\n\nOverview\nOur free Relaxed Monday events have been specifically designed for children and young people with autism spectrum conditions or sensory processing differences.\nEvents this year: February 17th. April 7th. May 26th. July 28th. August 4th. August 25th. October 27. \nEvents are free\, but advance booking is essential. One ticket per person\, and one member of the group needs to be aged 5-25 with autism spectrum conditions or sensory processing differences. Drop-in workshops are most suitable for ages 8-14. Drinks and snacks will be available. Join us for a free morning or afternoon event specifically designed for children and young people with autism spectrum conditions or sensory processing differences. The event offers children and young people the opportunity to visit the museum without the distraction of other visitors\, accompanied by their families\, carers or friends. Throughout each session there will be drop-in cartoon workshops with our cartoonist Steve Marchant\, as well as a self-led trail of the museum – or you can just use the time to explore the museum at your own pace. We cannot be responsible for any attendees. However\, if there are any access requirements you would like us to know about or discuss\, as well as any questions you may have\, please email learning@cartoonmuseum.org and our Learning and Outreach Officer\, Steve\, will be happy to talk through everything. If you have booked tickets\, we will email you our accessibility information ahead of the visit\, including: Visual Story of the day\, exhibition videos along with accessible descriptions\, sensory descriptions of the museum\, and the best accessible routes to get to the museum using public transport.\n\n\n\nLocation
URL:https://autisminmuseums.com/event/relaxed-mondays-the-cartoon-museum-london/
LOCATION:Cartoon Museum\, London\, W1A 3AE
CATEGORIES:London
GEO:51.5072178;-0.1275862
END:VEVENT
END:VCALENDAR