BEGIN:VCALENDAR
VERSION:2.0
PRODID:-// - ECPv6.15.20//NONSGML v1.0//EN
CALSCALE:GREGORIAN
METHOD:PUBLISH
X-ORIGINAL-URL:https://autisminmuseums.com
X-WR-CALDESC:Events for 
REFRESH-INTERVAL;VALUE=DURATION:PT1H
X-Robots-Tag:noindex
X-PUBLISHED-TTL:PT1H
BEGIN:VTIMEZONE
TZID:Europe/London
BEGIN:DAYLIGHT
TZOFFSETFROM:+0000
TZOFFSETTO:+0100
TZNAME:BST
DTSTART:20240331T010000
END:DAYLIGHT
BEGIN:STANDARD
TZOFFSETFROM:+0100
TZOFFSETTO:+0000
TZNAME:GMT
DTSTART:20241027T010000
END:STANDARD
BEGIN:DAYLIGHT
TZOFFSETFROM:+0000
TZOFFSETTO:+0100
TZNAME:BST
DTSTART:20250330T010000
END:DAYLIGHT
BEGIN:STANDARD
TZOFFSETFROM:+0100
TZOFFSETTO:+0000
TZNAME:GMT
DTSTART:20251026T010000
END:STANDARD
BEGIN:DAYLIGHT
TZOFFSETFROM:+0000
TZOFFSETTO:+0100
TZNAME:BST
DTSTART:20260329T010000
END:DAYLIGHT
BEGIN:STANDARD
TZOFFSETFROM:+0100
TZOFFSETTO:+0000
TZNAME:GMT
DTSTART:20261025T010000
END:STANDARD
END:VTIMEZONE
BEGIN:VEVENT
DTSTART;TZID=Europe/London:20250224T110000
DTEND;TZID=Europe/London:20250224T120000
DTSTAMP:20260424T031516
CREATED:20250217T121948Z
LAST-MODIFIED:20250217T121948Z
UID:10001010-1740394800-1740398400@autisminmuseums.com
SUMMARY:Orchids Quiet Sessions @ Kew Gardens\, London
DESCRIPTION:Enjoy Orchids with reduced crowds in our quiet sessions for our disabled and neurodiverse visitors. \nWe are closing the Princess of Wales Conservatory to the public to allow visitors with special educational needs\, disabilities like Autism Spectrum Condition\, conditions like dementia\, and/or sensory processing needs to have a more comfortable visit. \nDuring the quiet sessions\, we will be permitting fewer people than our usual time slots and ensuring easy access to avoid potentially stressful queues. \nThis year we celebrate Peru\, one of the most biodiverse countries on Earth\, with its landscapes ranging from beaches and deserts to mountains\, valleys and rainforests. \n\n\nAccessibility\nMobility scooters are not permitted in the Princess of Wales Conservatory\, but we can provide wheelchairs for visitors to use on arrival. \nPlease note that not all of the glasshouse is wheelchair accessible\, but all locations pertaining to the orchids festival are. \nAccessibility at Kew
URL:https://autisminmuseums.com/event/orchids-quiet-sessions-kew-gardens-london-2/
LOCATION:Kew Gardens\, Royal Botanic Gardens\, Kew\, Richmond\, London\, Surrey\, TW9 3JR\, United Kingdom
CATEGORIES:London
GEO:51.4828497;-0.2962656
X-APPLE-STRUCTURED-LOCATION;VALUE=URI;X-ADDRESS=Kew Gardens Royal Botanic Gardens Kew Richmond London Surrey TW9 3JR United Kingdom;X-APPLE-RADIUS=500;X-TITLE=Royal Botanic Gardens\, Kew:geo:-0.2962656,51.4828497
END:VEVENT
BEGIN:VEVENT
DTSTART;TZID=Europe/London:20250217T110000
DTEND;TZID=Europe/London:20250217T120000
DTSTAMP:20260424T031516
CREATED:20250217T121839Z
LAST-MODIFIED:20250217T121839Z
UID:10001009-1739790000-1739793600@autisminmuseums.com
SUMMARY:Orchids Quiet Sessions @ Kew Gardens\, London
DESCRIPTION:Enjoy Orchids with reduced crowds in our quiet sessions for our disabled and neurodiverse visitors. \nWe are closing the Princess of Wales Conservatory to the public to allow visitors with special educational needs\, disabilities like Autism Spectrum Condition\, conditions like dementia\, and/or sensory processing needs to have a more comfortable visit. \nDuring the quiet sessions\, we will be permitting fewer people than our usual time slots and ensuring easy access to avoid potentially stressful queues. \nThis year we celebrate Peru\, one of the most biodiverse countries on Earth\, with its landscapes ranging from beaches and deserts to mountains\, valleys and rainforests. \n\n\nAccessibility\nMobility scooters are not permitted in the Princess of Wales Conservatory\, but we can provide wheelchairs for visitors to use on arrival. \nPlease note that not all of the glasshouse is wheelchair accessible\, but all locations pertaining to the orchids festival are. \nAccessibility at Kew
URL:https://autisminmuseums.com/event/orchids-quiet-sessions-kew-gardens-london/
LOCATION:Kew Gardens\, Royal Botanic Gardens\, Kew\, Richmond\, London\, Surrey\, TW9 3JR\, United Kingdom
CATEGORIES:London
GEO:51.4828497;-0.2962656
X-APPLE-STRUCTURED-LOCATION;VALUE=URI;X-ADDRESS=Kew Gardens Royal Botanic Gardens Kew Richmond London Surrey TW9 3JR United Kingdom;X-APPLE-RADIUS=500;X-TITLE=Royal Botanic Gardens\, Kew:geo:-0.2962656,51.4828497
END:VEVENT
END:VCALENDAR