BEGIN:VCALENDAR
VERSION:2.0
PRODID:-// - ECPv6.15.20//NONSGML v1.0//EN
CALSCALE:GREGORIAN
METHOD:PUBLISH
X-ORIGINAL-URL:https://autisminmuseums.com
X-WR-CALDESC:Events for 
REFRESH-INTERVAL;VALUE=DURATION:PT1H
X-Robots-Tag:noindex
X-PUBLISHED-TTL:PT1H
BEGIN:VTIMEZONE
TZID:Europe/London
BEGIN:DAYLIGHT
TZOFFSETFROM:+0000
TZOFFSETTO:+0100
TZNAME:BST
DTSTART:20240331T010000
END:DAYLIGHT
BEGIN:STANDARD
TZOFFSETFROM:+0100
TZOFFSETTO:+0000
TZNAME:GMT
DTSTART:20241027T010000
END:STANDARD
BEGIN:DAYLIGHT
TZOFFSETFROM:+0000
TZOFFSETTO:+0100
TZNAME:BST
DTSTART:20250330T010000
END:DAYLIGHT
BEGIN:STANDARD
TZOFFSETFROM:+0100
TZOFFSETTO:+0000
TZNAME:GMT
DTSTART:20251026T010000
END:STANDARD
BEGIN:DAYLIGHT
TZOFFSETFROM:+0000
TZOFFSETTO:+0100
TZNAME:BST
DTSTART:20260329T010000
END:DAYLIGHT
BEGIN:STANDARD
TZOFFSETFROM:+0100
TZOFFSETTO:+0000
TZNAME:GMT
DTSTART:20261025T010000
END:STANDARD
END:VTIMEZONE
BEGIN:VEVENT
DTSTART;TZID=Europe/London:20251128T090000
DTEND;TZID=Europe/London:20251128T113000
DTSTAMP:20260423T035935
CREATED:20250909T153456Z
LAST-MODIFIED:20250909T153456Z
UID:10001203-1764320400-1764329400@autisminmuseums.com
SUMMARY:Jennie Baptiste: Rhythm & Roots - Relaxed Session @ Somerset House\, London
DESCRIPTION:Jennie Baptiste: Rhythm & Roots – Relaxed Session\nWe are hosting a relaxed session for anyone who would like to explore Jennie Baptiste: Rhythm & Roots in a calm and comfortable environment on Fri 28 Nov 2025\, 9–11.30am. \nWhat’s On\nExhibition\n+2\nShare \nTo ensure that the exhibition is as welcoming and calm as possible\, we: \nLimit the number of visitors in the session\nLower elements of AV in the space\nProvide Access Packs – available at the entrance to the exhibition. These contain: Noise cancelling headphones\, magnifying glass sheets for reading any printed text\, a large print guide and a stress ball\nRun regular disability awareness sessions with our staff\nProvide a safe/calm space to help assist visitors who may be overwhelmed due to the new environment\nFor any questions about these sessions\, please contact visitor@somersethouse.org.uk or for general ticketing enquiries please call +44 (0)333 320 2836. Lines are open between 09.00-18.00- Mon-Fri\, 10.00-18.00 Sat/Sun/Bank Holidays.Please be aware that we do not offer refunds or exchanges as per our terms and conditions of sale. We look forward to welcoming you to Somerset House. \nA landmark exhibition celebrating Jennie Baptiste\, a defining voice in British photography — capturing the sound\, style\, and spirit of Black British youth culture from the 1990s to today. \nThis autumn\, Somerset House presents Jennie Baptiste: Rhythm & Roots — the first major solo exhibition from pioneering Black British photographer Jennie Baptiste. \nSpanning three decades of photography\, the exhibition showcases iconic and previously unseen portraits from Baptiste’s archive\, celebrating the rich cultural influence of Black British communities across music\, fashion\, and youth identity. From the flamboyant energy of London’s dancehall scene to the rise of hip hop and R&B\, Baptiste’s lens offers a vital visual record of a generation in motion. \nVisitors will encounter defining images of figures including Roots Manuva\, Estelle\, Ms Dynamite and NAS\, as well as street portraits of everyday icons from 1990s Brixton and beyond. A highlight includes the return of Revolutions @33 1/3 rpm — Baptiste’s seminal documentation of London’s hip hop DJ scene\, exhibited here for the first time since 1999\, complete with original mixes from the DJs she photographed. \nThe exhibition also features Black Chains of Icon\, a powerful conceptual series exploring themes of Black identity\, resilience\, and legacy through layered materials\, historic quotes\, and experimental printing techniques. \nImmersive and celebratory\, Rhythm & Roots affirms Baptiste’s rightful place in the canon of British photography. Presented with a soundtrack of DJ-curated mixes\, a public programme of talks\, and creative responses from the community\, this exhibition honours the sound\, style\, and stories that shaped a cultural movement — and continue to shape it today. \nHeader Image: Roots Manuva by Jennie Baptiste\, 1999.
URL:https://autisminmuseums.com/event/jennie-baptiste-rhythm-roots-relaxed-session-somerset-house-london/
LOCATION:Somerset House\, London\, WC2R 1LA
CATEGORIES:London
GEO:51.5109245;-0.117708
END:VEVENT
BEGIN:VEVENT
DTSTART;TZID=Europe/London:20251128T093000
DTEND;TZID=Europe/London:20251128T110000
DTSTAMP:20260423T035935
CREATED:20251030T181747Z
LAST-MODIFIED:20251030T181747Z
UID:10001229-1764322200-1764327600@autisminmuseums.com
SUMMARY:Wayne McGregor: Infinite Bodies Relaxed Sessions @ Somerset House\, London
DESCRIPTION:Wayne McGregor: Infinite Bodies Relaxed Sessions\nWe are hosting a Relaxed Sessions for anyone who would like to explore Wayne McGregor: Infinite Bodies in a calm and comfortable environment\, including people with autism and other neurodiverse needs\, as well as their siblings\, families and carers. \nThese will be held on Friday 28 November 2025 and Friday 23 January 2026 at 9.30–11am \nWhat’s On\nExhibition\n+5\nShare \nTo ensure that Wayne McGregor: Infinite Bodies is as welcoming and calm as possible\, we: \nLimit the number of visitors in the session\nLower elements of AV in the space\nProvide Access Packs – available at the entrance to the exhibition. These contain: Noise cancelling headphones\, magnifying glass sheets for reading any printed text\, a large print guide and a stress ball\nRun regular disability awareness sessions with our staff\nProvide a safe/calm space to help assist visitors who may be overwhelmed due to the new environment\nThis autumn\, Somerset House proudly presents Infinite Bodies\, a groundbreaking exhibition dedicated to the polymath practice of internationally renowned choreographer and director Sir Wayne McGregor CBE. Marking the culmination of Somerset House’s 25th birthday celebrations\, it will offer a bold exploration of McGregor’s three-decade career. \nThis landmark exhibition explores how McGregor’s investigations into the body\, movement and cutting-edge digital technologies have radically redefined our perception of physical intelligence. A series of multi-sensory choreographic installations\, performances and experiments will take over Somerset House’s Embankment Galleries\, including spectacular new commissions. Extending the experience beyond Somerset House\, a major off-site installation will also be presented at Stone Nest in London’s West End — forming part of a city-wide celebration of Infinite Bodies. \nReflecting the collaborative nature that defines Studio Wayne McGregor’s creative home in East London\, the exhibition features collaborations with world-leading artists\, designers\, musicians\, and technologists\, such as Industrial Light & Magic\, artist group Random International\, Oscar-winning sound designer Nicolas Becker\, renowned music producer LEXX\, and artists Ben Cullen Williams and Jeffrey Shaw. McGregor also continues his creative exchanges with visionary collaborators such as fashion designer Gareth Pugh\, visual artist Theresa Baumgartner\, photographer Indigo Lewin\, and filmmaker Ruth Hogben. \nAt select moments during the run\, Company Wayne McGregor\, the world-class dancers in residence\, will bring the artworks to life\, offering audiences a rare glimpse into their creative process. These special appearances will take place on unannounced dates. \nImage: Wayne McGregor: ON THE OTHER EARTH\, Company Wayne McGregor (Jasiah Marshall) 2025\, Photo credit Ravi Deepres and Luke Unsworth
URL:https://autisminmuseums.com/event/wayne-mcgregor-infinite-bodies-relaxed-sessions-somerset-house-london/
LOCATION:Somerset House\, London\, WC2R 1LA
CATEGORIES:London
GEO:51.5109245;-0.117708
END:VEVENT
BEGIN:VEVENT
DTSTART;TZID=Europe/London:20251128T183000
DTEND;TZID=Europe/London:20251128T220000
DTSTAMP:20260423T035935
CREATED:20251118T164149Z
LAST-MODIFIED:20251118T164149Z
UID:10001250-1764354600-1764367200@autisminmuseums.com
SUMMARY:Friday Late: Radical Kinship @ V&A\, London
DESCRIPTION:Friday Late: Radical Kinship\nThis Friday Late reimagines how we relate to the world through disabled creativity.\nDrop-in\nFriday\, 28 November 2025 \nV&A South Kensington \nFree \n+44 (0)20 7942 2000\nFriday\, 28 November 2025 \n18.30 – 22.00 \nV&A South Kensington \nCromwell Road\nLondon\, SW7 2RL\nDownload programme \nFree event \nExperience how artists and thinkers subvert the way we move\, sense and co-create. Immerse yourselves in radical\, interactive spaces\, exploring diverse narratives around connections\, rhythms and access. Through music\, performances\, talks and workshops\, celebrate disabled ingenuity\, resilience and ways of life. Embrace transformative practices of care\, justice and interdependence\, guiding us all to navigate future challenges.  \nAll events are free\, and places are designated on a first-come\, first-served basis unless stated otherwise. Please note\, if the V&A or any of the activations reaches capacity\, we will allow access on a one-in\, one-out basis. If you would like to know whether spaces are still available for an event\, please approach our access support staff at Cromwell Road and Exhibition Road entrances. BSL support is also available at these two locations.
URL:https://autisminmuseums.com/event/friday-late-radical-kinship-va-london/
LOCATION:V&A\, London\, SW7 2RL\, United Kingdom
CATEGORIES:London
GEO:51.4969413;-0.1721991
END:VEVENT
BEGIN:VEVENT
DTSTART;TZID=Europe/London:20251129T110000
DTEND;TZID=Europe/London:20251129T160000
DTSTAMP:20260423T035935
CREATED:20251111T165707Z
LAST-MODIFIED:20251111T165707Z
UID:10001244-1764414000-1764432000@autisminmuseums.com
SUMMARY:Sensory Friendly Workshop @ V&A\, London
DESCRIPTION:Sensory Friendly\nTake part in these free child and family workshops for visitors with a neurodiversity or sensory processing disorder and their families\, get creative and have fun!\nWorkshop\nSaturday\, 29 November 2025 \nV&A South Kensington \nFree \nBook now\n+44 (0)20 7942 2000\nSaturday\, 29 November 2025 \n11.00 – 16.00 \nV&A South Kensington \nCromwell Road\nLondon\, SW7 2RL\nArt Studio\, Learning Centre \nFamilies \nFree event \nBook now\nSensory Friendly  photo\nCome along to our Sensory Friendly monthly workshop for neurodiverse visitors of all ages and their families.  \nAs a family you’ll get to design\, make\, experiment and draw using lightboxes\, overhead projectors and a range of materials. Play with light and dark\, reflections\, shadows\, and colours.  \nIf you need a break\, there will be a breakout space available through the day\, with one within the event space and the other nearby. This space will have: a blackout tent\, cushions\, sensory toys\, and ear defenders. \nAll activities are optional\, and you can visit at any point during the event timings\, between 11am – 4pm. However\, please book your tickets to give us an idea if you’re likely to visit us earlier 11am-1:30pm\, or later in the day 1:30-4pm. \nThese sessions are created and led by Groundswell Arts. \nThis is an activity for families where either a child or the parent/ carer/ guardian has a neurodiversity or sensory processing disorder. This is a free\, drop-in event for families to enjoy all together; no child can be left unattended. Suitable for ages 5+. \nAll materials will be provided\, all sourced sustainably. No previous creative experience is necessary. \nSiblings\, family members\, and carers\, of all ages are all welcome (please book a space for each child attending).  \nThe Museum is accessible and step-free. Please find further information by clicking here \nImage credit: Groundswell Arts Shadows 2 – Credit Anna Gordon
URL:https://autisminmuseums.com/event/sensory-friendly-workshop-va-london/
LOCATION:V&A\, London\, SW7 2RL\, United Kingdom
CATEGORIES:London
GEO:51.4969413;-0.1721991
END:VEVENT
BEGIN:VEVENT
DTSTART;TZID=Europe/London:20251129T183000
DTEND;TZID=Europe/London:20251129T213000
DTSTAMP:20260423T035935
CREATED:20250909T093734Z
LAST-MODIFIED:20250909T093734Z
UID:10001191-1764441000-1764451800@autisminmuseums.com
SUMMARY:Night Owls @ Science Museum\, London
DESCRIPTION:Night Owls is a sensory friendly event for visitors aged 16+ who need a quieter environment to enjoy the museum. \nNEXT NIGHT OWLS: Saturday 29 November 2025\nThis event is suitable for those who benefit from visiting the museum free from the hustle and bustle of the general public (for example\, individuals with autism spectrum conditions or sensory processing differences). \nTaking place on selected dates across the year\, we open the museum exclusively after hours\, and wherever possible will have adjusted operations and/or lowered volume levels on exhibits. \nAs well as exploring some of the galleries\, you can enjoy a selection of fun activities across the museum. There will also be quiet areas for those needing to take a break. More details on exactly what to expect on the day will be sent out in advance of each Night Owls event. \nGeneral admission to Night Owls accessible events is free and suitable for visitors aged 16+. Family and friends are free to attend as well\, but everyone will need to book a free ticket in advance of the event \nInformation\nAccessible event\nDate: Saturday 29 November 2025\nTime: 18.30–21.30\nPrice: Free but booking required\nAge: 16+ only\nBook now\nIn this page\nFAQs\nFuture dates\nSign up to our Accessible newsletter to be the first to hear about future dates.  \nFAQs\nDo I need to book?\nHow do I cancel my Night Owls booking?\nWhat else do I need to know?\nWhat if I’m under 16?
URL:https://autisminmuseums.com/event/night-owls-science-museum-london-3/
LOCATION:Science Museum\, SW7 2DD
CATEGORIES:London
GEO:51.4972946;-0.1765027
END:VEVENT
BEGIN:VEVENT
DTSTART;TZID=Europe/London:20251130T090000
DTEND;TZID=Europe/London:20251130T103000
DTSTAMP:20260423T035935
CREATED:20251008T152155Z
LAST-MODIFIED:20251008T152155Z
UID:10001216-1764493200-1764498600@autisminmuseums.com
SUMMARY:Relaxed Mornings: Cecil Beaton's Fashionable World @ National Portrait Gallery\, London
DESCRIPTION:Relaxed Mornings:\nCecil Beaton’s Fashionable World\nColour photo of a man and young boy sitting on the Gallery floor writing in an activity book\n© Jonny Guardiani\n30 November 2025\, 09.00-10.30 \nMeet Gallery main entrance on Ross Place \nFree (booking required) \nBook now\nOur Relaxed Mornings have been designed for children with SEND and their families and carers\, as well as individuals of any age with sensory differences or disabilities. \nRelaxed Mornings provide an informal\, friendly and safe environment where visitors can explore exhibitions at their own pace\, in their own way\, without feeling overwhelmed by the crowds or worried about disturbing others. \nWe aim to ensure reduced visitor numbers during our Relaxed Mornings and minimise audio-visual and other sensory elements inside the Gallery. Chill-out zones and a range of creative tools\, including Sensory Bags which are free to borrow\, are available for visitors to enjoy within the exhibition. \nA Visual Story will be sent to visitors in advance of their visit to help them prepare for the experience of visiting the Cecil Beaton’s Fashionable World exhibition. \nRelaxed Mornings have been designed for visitors to enjoy our exhibitions independently; please be aware these sessions do not include a tour or workshop. \nImportant information: \nTickets and cloakroom are free\, but booking is essential to reserve your place.\nA carer or companion does not need to book a ticket.\nGuide and assistance dogs are very welcome in the Gallery. Please ensure your dog is wearing its harness within the Gallery.\nWhen you arrive\, please meet at the main entrance on Ross Place. More information about getting to the Gallery can be found in the Access section of our website.\nIf you have any access requirements you want us to be aware of\, or need assistance booking a ticket please email info@npg.org.uk.\nCheck the Access section of our website for more information about accessibility at the Gallery.\nPlan your visit
URL:https://autisminmuseums.com/event/relaxed-mornings-cecil-beatons-fashionable-world-national-portrait-gallery-london/
LOCATION:National Portrait Gallery\, London\, Greater London\, WC2H 0HE\, United Kingdom
CATEGORIES:London
GEO:51.5093987;-0.128453
END:VEVENT
BEGIN:VEVENT
DTSTART;TZID=Europe/London:20251130T100000
DTEND;TZID=Europe/London:20251130T140000
DTSTAMP:20260423T035935
CREATED:20250728T163917Z
LAST-MODIFIED:20250728T163917Z
UID:10001155-1764496800-1764511200@autisminmuseums.com
SUMMARY:Relaxed Openings of Thirst: In Search of Freshwater @ Wellcome Collection\, London
DESCRIPTION:Join us for a relaxed opening of the ‘Thirst: In Search of Freshwater‘ exhibition. Relaxed openings provide a calm\, friendly atmosphere with additional support and facilities. \nYou will find: \n\nextra staff available to help you\nfewer people in the exhibition\nsensory-support equipment (including ear defenders\, tinted glasses and visors\, stim toys and weighted lap pads)\ncomfortable cushions and mats if you need to sit or lie down in the exhibition\na chill-out space.\n\nFor a break from the exhibition and gallery spaces\, take advantage of our Chill-Out Room. This room has low lighting\, comfortable seating\, cushions\, mats and space to move around and be yourself.
URL:https://autisminmuseums.com/event/relaxed-openings-of-thirst-in-search-of-freshwater-wellcome-collection-london-2/
LOCATION:Wellcome Collection\, London\, NW1 2BE
CATEGORIES:London
ATTACH;FMTTYPE=image/jpeg:https://autisminmuseums.com/wp-content/uploads/2025/07/Relaxed-opening-Thirst.jpg
GEO:51.5258975;-0.1339174
END:VEVENT
END:VCALENDAR