BEGIN:VCALENDAR
VERSION:2.0
PRODID:-// - ECPv6.15.20//NONSGML v1.0//EN
CALSCALE:GREGORIAN
METHOD:PUBLISH
X-ORIGINAL-URL:https://autisminmuseums.com
X-WR-CALDESC:Events for 
REFRESH-INTERVAL;VALUE=DURATION:PT1H
X-Robots-Tag:noindex
X-PUBLISHED-TTL:PT1H
BEGIN:VTIMEZONE
TZID:Europe/London
BEGIN:DAYLIGHT
TZOFFSETFROM:+0000
TZOFFSETTO:+0100
TZNAME:BST
DTSTART:20240331T010000
END:DAYLIGHT
BEGIN:STANDARD
TZOFFSETFROM:+0100
TZOFFSETTO:+0000
TZNAME:GMT
DTSTART:20241027T010000
END:STANDARD
BEGIN:DAYLIGHT
TZOFFSETFROM:+0000
TZOFFSETTO:+0100
TZNAME:BST
DTSTART:20250330T010000
END:DAYLIGHT
BEGIN:STANDARD
TZOFFSETFROM:+0100
TZOFFSETTO:+0000
TZNAME:GMT
DTSTART:20251026T010000
END:STANDARD
BEGIN:DAYLIGHT
TZOFFSETFROM:+0000
TZOFFSETTO:+0100
TZNAME:BST
DTSTART:20260329T010000
END:DAYLIGHT
BEGIN:STANDARD
TZOFFSETFROM:+0100
TZOFFSETTO:+0000
TZNAME:GMT
DTSTART:20261025T010000
END:STANDARD
END:VTIMEZONE
BEGIN:VEVENT
DTSTART;TZID=Europe/London:20250816T090000
DTEND;TZID=Europe/London:20250816T100000
DTSTAMP:20260419T150225
CREATED:20250319T160032Z
LAST-MODIFIED:20250319T160032Z
UID:10001050-1755334800-1755338400@autisminmuseums.com
SUMMARY:Quiet Hour @ Brooklands Museum\, Surrey
DESCRIPTION:Quiet Hour\, Saturday 16 August from 9am.\n  \nOur Aircraft Factory the home of our Wellington Bomber\, the Flight Shed where you have a go at deciphering Morse Code\,  step inside the Vickers Wellington walkthrough as well as being able to get up close and sit in the pilot’s seats of the Hawker Hunter and Harrier aircraft.* \nVisitors who are neurodivergent can enjoy these areas of the Museum\, free from the hustle and bustle of our normal opening hours. \n​​​Our Café will be open for our ‘Brooklands Breakfast offer’. \nThe Museum will then be open as normal from 10am – 4pm when all our exhibit areas will be open.  *some activities have step access only
URL:https://autisminmuseums.com/event/quiet-hour-brooklands-museum-surrey-5/
LOCATION:Brooklands Museum\, Weybridge\, KT13 0QN\, United Kingdom
CATEGORIES:South East
GEO:51.3549765;-0.4642859
END:VEVENT
BEGIN:VEVENT
DTSTART;TZID=Europe/London:20250817T100000
DTEND;TZID=Europe/London:20250817T120000
DTSTAMP:20260419T150225
CREATED:20250613T150330Z
LAST-MODIFIED:20250613T150330Z
UID:10001123-1755424800-1755432000@autisminmuseums.com
SUMMARY:SENDsational Mornings @ NHM\, Tring
DESCRIPTION:SENDsational Mornings at Tring\n\n\nAn opportunity for children with neurodiverse conditions to enjoy the Museum at a quieter time. \n\nBook your tickets\n\n\n\n\n\n\n\n\nThe Natural History Museum at Tring\n\n\nSunday 17 August and Sunday 9 November\, 10.00–12.00\n\n\nFree\, booking required\n\n\n\nPre-visit information (PDF 185KB)Pre-visit visual guide (PDF 3.5MB)\n\n\nWe are excited to present SENDsational Mornings at Tring\, Hertfordshire. \nOur SENDsational mornings offer children with neurodiverse conditions\, including autism and other sensory processing difficulties\, the chance to take part in activities and enjoy our galleries with their families and siblings away from the hustle and bustle of the general public. \nThis event is best for children aged five to 15 and siblings are welcome. \nWhat can you expect from the experience? \n\nVisitors have access to a few activities including specimen handling\, crafting and a gallery trail.\nAll activities are supported by experienced\, autism-aware facilitators.\nA sensory space will be available for those children needing a quieter and calmer space.\nAll of the galleries\, outdoor spaces and the shop will be accessible throughout the event.\nEach event has a different theme. In May it’s rainforests\, in August it’s Oceans and the theme for November is Autumn.\n\nWalk-ups are not possible – you must have a ticket. Adult tickets are limited to three per group. \nWe will email more information about your visit a week in advance\, to help you prepare for your visit. On the day you will be given a programme and map to let you know what you can do. \nThe Museum in South Kensington has been successfully running a similar event called Dawnosaurs for the past four years. \nBefore your visit take a look at our pre-visit information including a visual guide and logistics and facilities information.
URL:https://autisminmuseums.com/event/sendsational-mornings-nhm-tring/
LOCATION:Natural History Museum Tring\, Tring\, HP23 6AP
CATEGORIES:South East
GEO:51.7908488;-0.6606467
END:VEVENT
END:VCALENDAR