BEGIN:VCALENDAR
VERSION:2.0
PRODID:-// - ECPv6.15.20//NONSGML v1.0//EN
CALSCALE:GREGORIAN
METHOD:PUBLISH
X-ORIGINAL-URL:https://autisminmuseums.com
X-WR-CALDESC:Events for 
REFRESH-INTERVAL;VALUE=DURATION:PT1H
X-Robots-Tag:noindex
X-PUBLISHED-TTL:PT1H
BEGIN:VTIMEZONE
TZID:Europe/London
BEGIN:DAYLIGHT
TZOFFSETFROM:+0000
TZOFFSETTO:+0100
TZNAME:BST
DTSTART:20240331T010000
END:DAYLIGHT
BEGIN:STANDARD
TZOFFSETFROM:+0100
TZOFFSETTO:+0000
TZNAME:GMT
DTSTART:20241027T010000
END:STANDARD
BEGIN:DAYLIGHT
TZOFFSETFROM:+0000
TZOFFSETTO:+0100
TZNAME:BST
DTSTART:20250330T010000
END:DAYLIGHT
BEGIN:STANDARD
TZOFFSETFROM:+0100
TZOFFSETTO:+0000
TZNAME:GMT
DTSTART:20251026T010000
END:STANDARD
BEGIN:DAYLIGHT
TZOFFSETFROM:+0000
TZOFFSETTO:+0100
TZNAME:BST
DTSTART:20260329T010000
END:DAYLIGHT
BEGIN:STANDARD
TZOFFSETFROM:+0100
TZOFFSETTO:+0000
TZNAME:GMT
DTSTART:20261025T010000
END:STANDARD
END:VTIMEZONE
BEGIN:VEVENT
DTSTART;TZID=Europe/London:20250525T100000
DTEND;TZID=Europe/London:20250525T120000
DTSTAMP:20260419T174433
CREATED:20250508T132835Z
LAST-MODIFIED:20250508T132835Z
UID:10001094-1748167200-1748174400@autisminmuseums.com
SUMMARY:SENDsational Morning @ Natural History Museum\, Tring\, Hertfordshire
DESCRIPTION:SENDsational Morning – 25 May 2025 \n\n\n\n\n\n\n\n\n\n\nWe are excited to present SENDsational Mornings at Tring\, Hertfordshire on Sunday 25 May 2025 10.00-12.00. \nChildren with neurodiverse conditions including autism and other sensory processing difficulties can enjoy the Museum with their families and siblings\, free from the hustle and bustle of the general public. \nWhat can you expect from the experience? \n\nVisitors have access to rainforest themed activities including specimen handling\, craft activity and a gallery trail.\n\n\nAll activities are supported by experienced\, autism-aware facilitators.\nA quiet room will be available for those children needing a quieter and calmer space.\nAll of the galleries\, outdoor spaces and the shop will be accessible throughout the event.\nThe general public will be allowed in from 12.00.\n\nThis event is best for children aged 5-15 and siblings are welcome. \nPlease note that Dawnosaurs is a similar event run by our sister museum in South Kensington.
URL:https://autisminmuseums.com/event/sendsational-morning-natural-history-museum-tring-hertfordshire/
LOCATION:Natural History Museum Tring\, Tring\, HP23 6AP
CATEGORIES:South East
GEO:51.7908488;-0.6606467
END:VEVENT
END:VCALENDAR