BEGIN:VCALENDAR
VERSION:2.0
PRODID:-// - ECPv6.15.20//NONSGML v1.0//EN
CALSCALE:GREGORIAN
METHOD:PUBLISH
X-ORIGINAL-URL:https://autisminmuseums.com
X-WR-CALDESC:Events for 
REFRESH-INTERVAL;VALUE=DURATION:PT1H
X-Robots-Tag:noindex
X-PUBLISHED-TTL:PT1H
BEGIN:VTIMEZONE
TZID:Europe/London
BEGIN:DAYLIGHT
TZOFFSETFROM:+0000
TZOFFSETTO:+0100
TZNAME:BST
DTSTART:20240331T010000
END:DAYLIGHT
BEGIN:STANDARD
TZOFFSETFROM:+0100
TZOFFSETTO:+0000
TZNAME:GMT
DTSTART:20241027T010000
END:STANDARD
BEGIN:DAYLIGHT
TZOFFSETFROM:+0000
TZOFFSETTO:+0100
TZNAME:BST
DTSTART:20250330T010000
END:DAYLIGHT
BEGIN:STANDARD
TZOFFSETFROM:+0100
TZOFFSETTO:+0000
TZNAME:GMT
DTSTART:20251026T010000
END:STANDARD
BEGIN:DAYLIGHT
TZOFFSETFROM:+0000
TZOFFSETTO:+0100
TZNAME:BST
DTSTART:20260329T010000
END:DAYLIGHT
BEGIN:STANDARD
TZOFFSETFROM:+0100
TZOFFSETTO:+0000
TZNAME:GMT
DTSTART:20261025T010000
END:STANDARD
END:VTIMEZONE
BEGIN:VEVENT
DTSTART;TZID=Europe/London:20250517T090000
DTEND;TZID=Europe/London:20250517T100000
DTSTAMP:20260419T161035
CREATED:20250319T104140Z
LAST-MODIFIED:20250319T104140Z
UID:10001045-1747472400-1747476000@autisminmuseums.com
SUMMARY:Autism-Friendly Opening @ Oxford University Museum of Natural History
DESCRIPTION:Autism Friendly Opening\n\n\n\n\n\n\n\n\n\n\n\n\n\n\n\n\n\n\n\n\n\nSaturday\, 17 May 2025\n09:00 – 10:00 \nThis is a free event but booking is required. To book your place(s) please email: education@oum.ox.ac.uk. \n\nAbout the event\nA relaxed morning opening for families with members on the Autism Spectrum to explore the Museum collections in a quiet environment. More information\, including a visual guide\, will be emailed to attendees a week prior to the event to help you to prepare for your visit. Please note that although this is a relaxed opening there may still be noises in the Museum so please bring along ear protectors if required. This is a joint event with the Pitt Rivers Museum. \n\nAccessibility information\n\n\n\n\nWheelchair accessible?\nYes\n\n\nHearing loops?\nNo\n\n\nSeating?\nYes\n\n\nRefreshments?\nNo\n\n\nFlashing lights?\nNo\n\n\nLoud noises?\nNo\n\n\n\n\n  \nFor more information\, please visit our accessibility webpage.
URL:https://autisminmuseums.com/event/autism-friendly-opening-oxford-university-museum-of-natural-history-2/
LOCATION:Oxford University Museum of Natural History\, Oxford\, OX1 3PW
CATEGORIES:South East
GEO:51.7590278;-1.2564158
END:VEVENT
BEGIN:VEVENT
DTSTART;TZID=Europe/London:20250518T100000
DTEND;TZID=Europe/London:20250518T120000
DTSTAMP:20260419T161035
CREATED:20250111T152041Z
LAST-MODIFIED:20250111T152041Z
UID:10000961-1747562400-1747569600@autisminmuseums.com
SUMMARY:SENDsational Mornings @ Natural History Museum\, Tring
DESCRIPTION:SENDsational Mornings at Tring\n\n\n\n\n\n\n\n\n\n\n\n\n\n\n\n\n\n\n\nEvent information\n\n\nAn opportunity for children with neurodiverse conditions to enjoy the Museum at a quieter time. \n2 February (desert animals) and 18 May (rainforests) \n10.00-12.00 \nFree – bookings essential \n\nBook tickets\n\n\n\n\n\n\n\n\n\n\n\n\nWe are excited to present SENDsational Mornings at Tring\, Hertfordshire. \nOur SENDsational mornings offer children with neurodiverse conditions\, including autism and other sensory processing difficulties\, the chance to take part in activities and enjoy our galleries with their families and siblings away from the hustle and bustle of the general public. \nThis event is best for children aged five to 15 and siblings are welcome. \nWhat can you expect from the experience?\n\nVisitors have access to a few activities including specimen handling\, crafting and a gallery trail.\nAll activities are supported by experienced\, autism-aware facilitators.\nA sensory space will be available for those children needing a quieter and calmer space.\nAll of the galleries\, outdoor spaces and the shop will be accessible throughout the event.\nEach event has a different theme. In May it’s rainforests\, in August it’s Oceans and the theme for November is Autumn.\n\nWalk-ups are not possible – you must have a ticket. Adult tickets are limited to three per group. \nWe will email more information about your visit a week in advance\, to help you prepare for your visit. On the day you will be given a programme and map to let you know what you can do. \nThe Museum in South Kensington has been successfully running a similar event called Dawnosaurs for the past four years. \nBefore your visit take a look at our pre-visit information including a visual guide and logistics and facilities information. \n\n\nSENDsational Morning Pre-visit information PDF (184KB)\nSENDsational Morning Pre-visit visual guide PDF (2.73MB)\n\n\n\n\n\n\nUseful information\n\n\n\nDoors open at 10.00.\nThe Museum opens to the public at 12.00\, and you are welcome to stay for the afternoon but it may become busy and noisy.\nYou can bring a picnic lunch which you can have in Walter’s Workshop\, the small building located in the car park.\nThere are baby changing facilities and accessible toilets.\nThe Museum is fully accessible for wheelchair and buggy access.\nMobiloo may be in attendance depending on availability. Please let us know as soon as possible if you require this facility.
URL:https://autisminmuseums.com/event/sendsational-mornings-natural-history-museum-tring-5/
LOCATION:Natural History Museum Tring\, Tring\, HP23 6AP
CATEGORIES:South East
GEO:51.7908488;-0.6606467
END:VEVENT
BEGIN:VEVENT
DTSTART;TZID=Europe/London:20250525T100000
DTEND;TZID=Europe/London:20250525T120000
DTSTAMP:20260419T161035
CREATED:20250508T132835Z
LAST-MODIFIED:20250508T132835Z
UID:10001094-1748167200-1748174400@autisminmuseums.com
SUMMARY:SENDsational Morning @ Natural History Museum\, Tring\, Hertfordshire
DESCRIPTION:SENDsational Morning – 25 May 2025 \n\n\n\n\n\n\n\n\n\n\nWe are excited to present SENDsational Mornings at Tring\, Hertfordshire on Sunday 25 May 2025 10.00-12.00. \nChildren with neurodiverse conditions including autism and other sensory processing difficulties can enjoy the Museum with their families and siblings\, free from the hustle and bustle of the general public. \nWhat can you expect from the experience? \n\nVisitors have access to rainforest themed activities including specimen handling\, craft activity and a gallery trail.\n\n\nAll activities are supported by experienced\, autism-aware facilitators.\nA quiet room will be available for those children needing a quieter and calmer space.\nAll of the galleries\, outdoor spaces and the shop will be accessible throughout the event.\nThe general public will be allowed in from 12.00.\n\nThis event is best for children aged 5-15 and siblings are welcome. \nPlease note that Dawnosaurs is a similar event run by our sister museum in South Kensington.
URL:https://autisminmuseums.com/event/sendsational-morning-natural-history-museum-tring-hertfordshire/
LOCATION:Natural History Museum Tring\, Tring\, HP23 6AP
CATEGORIES:South East
GEO:51.7908488;-0.6606467
END:VEVENT
BEGIN:VEVENT
DTSTART;TZID=Europe/London:20250526T090000
DTEND;TZID=Europe/London:20250526T123000
DTSTAMP:20260419T161035
CREATED:20250319T160915Z
LAST-MODIFIED:20250319T160915Z
UID:10001057-1748250000-1748262600@autisminmuseums.com
SUMMARY:Noises Off Morning @ Army Flying Museum\, Hampshire
DESCRIPTION:Noises Off Morning\n\n9am to 12.30pm on the last Monday of the month \n\nBook Now\n\n\n\n\n\n\n\n\n\nOur ‘Noises Off’ mornings run on the last Monday of the month between 9am and 12.30pm\, however\, please check the sessions by clicking on the button below because we occasionally have to cancel/move a session. \nOn these mornings sound effects in the Museum will be turned off\, or down\, so that visitors that may have sensory processing issues can explore in a quieter environment. Our booking system will also ensure that the Museum isn’t crowded on these mornings. We would advise visitors who wish to experience our normal sound effects and Helicopters in Action show to avoid visiting on these mornings\, which will be marked on our booking system. \nYou can find information about what to expect when visiting the Museum and read our Accessibility statement HERE.
URL:https://autisminmuseums.com/event/noises-off-morning-army-flying-museum-hampshire/2025-05-26/
LOCATION:Army Flying Museum\, Stockbridge\, SO20 8FB\, United Kingdom
CATEGORIES:South East
GEO:51.1503556;-1.5725993
END:VEVENT
BEGIN:VEVENT
DTSTART;TZID=Europe/London:20250530T090000
DTEND;TZID=Europe/London:20250530T100000
DTSTAMP:20260419T161035
CREATED:20250319T154250Z
LAST-MODIFIED:20250319T155623Z
UID:10001046-1748595600-1748599200@autisminmuseums.com
SUMMARY:Quiet Hour @ Brooklands Museum\, Surrey
DESCRIPTION:Quiet Hour\, Friday 30 May from 9am.\n  \nOur Aircraft Factory the home of our Wellington Bomber\, the Flight Shed where you have a go at deciphering Morse Code\,  step inside the Vickers Wellington walkthrough as well as being able to get up close and sit in the pilot’s seats of the Hawker Hunter and Harrier aircraft.* \nVisitors who are neurodivergent can enjoy these areas of the Museum\, free from the hustle and bustle of our normal opening hours. \n​​​Our Café will be open for our ‘Brooklands Breakfast offer’. \nThe Museum will then be open as normal from 10am – 4pm when all our exhibit areas will be open.  *some activities have step access only \n\n\n\n\nBuy Tickets \nPlan your visit\nDate\nFriday 30 May 2025\, 9am-10am \nTickets\nNormal Museum Admission applies \nEvent included in normal Museum admission (members go free) \nBecome a member \nGetting Here\nBrooklands Museum\, Brooklands Drive\, Surrey\, Weybridge\, KT13 0SL \nAccessibility\nStep-free access around site\nAssistance dogs only are admitted on site.\nAccessibility at the Museum > \n\nContact\ninfo@brooklandsmuseum.com
URL:https://autisminmuseums.com/event/quiet-hour-brooklands-museum-surrey/
LOCATION:Brooklands Museum\, Weybridge\, KT13 0QN\, United Kingdom
CATEGORIES:South East
GEO:51.3549765;-0.4642859
END:VEVENT
END:VCALENDAR